BEGIN:VCALENDAR
VERSION:2.0
PRODID:-//wp-events-plugin.com//7.2.3.1//EN
TZID:Europe/Paris
X-WR-TIMEZONE:Europe/Paris
BEGIN:VEVENT
UID:27@lesjeuxdelolympe.fr
DTSTART;TZID=Europe/Paris:20260718T130000
DTEND;TZID=Europe/Paris:20260718T170000
DTSTAMP:20260316T104829Z
URL:https://lesjeuxdelolympe.fr/evenements/tournoi-summoner-skirmish-riftb
 ound-2/
SUMMARY:Tournoi Summoner Skirmish Riftbound
DESCRIPTION:Tournoi Summoner Skirmish de Juillet Riftbound.\n\n16 places\, 
 4 rondes BO3.\n\nFormat : 1v1 avec decks construits\n\nPrix : cartes promo
 tionnelles pour les participants\, cartes promotionnelles pour les 8 premi
 ers\, tapis de jeu pour le champion\, accès direct au deuxième round des
  qualifications régionales\n\nNiveau de partie organisé : compétitif\n\
 nLes Summoner Skirmishes sont la quintessence du jeu compétitif à l'éch
 elle locale. Ils vous offrent la possibilité de mettre en pratique vos co
 mpétences en construction de deck. Si vous voulez vous essayer à la scè
 ne compétitive des jeux de cartes à collectionner\, c'est l'endroit idé
 al pour commencer.\n\nInscriptions et détails à venir.\n
ATTACH;FMTTYPE=image/jpeg:https://lesjeuxdelolympe.fr/wp-content/uploads/2
 026/03/lol_riftbound-s3-render-prerift-front-scaled.png
CATEGORIES:Riftbound TCG
END:VEVENT
BEGIN:VTIMEZONE
TZID:Europe/Paris
X-LIC-LOCATION:Europe/Paris
BEGIN:DAYLIGHT
DTSTART:20260329T030000
TZOFFSETFROM:+0100
TZOFFSETTO:+0200
TZNAME:CEST
END:DAYLIGHT
END:VTIMEZONE
END:VCALENDAR