BEGIN:VCALENDAR
VERSION:2.0
PRODID:-//wp-events-plugin.com//7.2.3.1//EN
TZID:Europe/Paris
X-WR-TIMEZONE:Europe/Paris
BEGIN:VEVENT
UID:48@lesjeuxdelolympe.fr
DTSTART;TZID=Europe/Paris:20260424T190000
DTEND;TZID=Europe/Paris:20260424T213000
DTSTAMP:20260418T142804Z
URL:https://lesjeuxdelolympe.fr/evenements/tournoi-draft-star-wars-unlimit
 ed/
SUMMARY:Tournoi Draft Star Wars Unlimited
DESCRIPTION:\nRejoignez-nous pour un tournoi au format draft Star Wars Unli
 mited comptant pour la ligue boutique ! 🚀\n\n🏆 Format du tournoi\n\n
  	• Format draft – BO1\n 	• 3 rondes\n\n💰 Participation\nL'inscri
 ption est de 16 €\n⚠️ Inscription obligatoire sur Melee\n\n🎁 Dota
 tions\nLot de participation pour tous :\n\n\n 	3 boosters Weekly des sets 
 précédents (4 à 6)\n 	2 boosters Weekly Set 7\n 	3 boosters Sans foi ni
  loi à drafter.\n\nLots selon votre performance :\n\n\n 	• 0 victoire :
  1 booster d'ancien set (4 à 6) + 3 weekly set 7 additionnels.\n 	• 1 v
 ictoire : 2 boosters d'anciens sets (4 à 6) + 2 weekly set 7 additionnels
 .\n 	• 2 victoires : 3 boosters d'anciens sets (4 à 6) + 1 weekly set 7
  additionnel.\n 	• 3 victoires : 1 kit d'AP du set 5 + 1 weekly set 7 ad
 ditionnel ou 2 boosters set 7 + 2 weekly set 7\, au choix.\n\n\n\n👉 Ins
 criptions et détails :\n\nAccéder à la page Agorajeux\n\n\n
ATTACH;FMTTYPE=image/jpeg:https://lesjeuxdelolympe.fr/wp-content/uploads/2
 025/11/SW.jpg
CATEGORIES:Star Wars Unlimited
END:VEVENT
BEGIN:VTIMEZONE
TZID:Europe/Paris
X-LIC-LOCATION:Europe/Paris
BEGIN:DAYLIGHT
DTSTART:20260329T030000
TZOFFSETFROM:+0100
TZOFFSETTO:+0200
TZNAME:CEST
END:DAYLIGHT
END:VTIMEZONE
END:VCALENDAR