BEGIN:VCALENDAR
VERSION:2.0
PRODID:-//wp-events-plugin.com//7.2.3.1//EN
TZID:Europe/Paris
X-WR-TIMEZONE:Europe/Paris
BEGIN:VEVENT
UID:46@lesjeuxdelolympe.fr
DTSTART;TZID=Europe/Paris:20260417T191500
DTEND;TZID=Europe/Paris:20260417T210000
DTSTAMP:20260412T133711Z
URL:https://lesjeuxdelolympe.fr/evenements/tournoi-construit-star-wars-unl
 imited/
SUMMARY:Tournoi Construit Star Wars Unlimited
DESCRIPTION:\nRejoignez-nous pour un tournoi au format construit Star Wars 
 Unlimited comptant pour la ligue boutique ! 🚀\n\n🏆 Format du tournoi
 \n\n 	• Format Construit – BO1\n 	• 3 rondes\n\n💰 Participation\n
 L'inscription est de 10 €.\n⚠️ Inscription obligatoire sur Melee\n\n
 🎁 Dotations\nLot de participation pour tous :\n\n\n 	4 boosters Weekly 
 des sets précédents (3 à 6)\n 	2 boosters Weekly Set 7\n\nLots selon vo
 tre performance :\n\n\n 	• 0 victoire : 1 booster sans foi ni loi + 3 we
 ekly set 7 additionnels\n 	• 1 victoire : 1 booster sans foi ni loi + 1 
 booster set 4 + 2 weekly set 7 additionnels\n 	• 2 victoires : 2 booster
 s sans foi ni loi + 2 weekly set 7 additionnels\n 	• 3 victoires : 1 kit
  d'AP du set 5 + 1 weekly set 7 additionnel (ou la récompense "2 victoire
 s" au choix)\n\n\n\n👉 Inscriptions et détails :\n\nAccéder à la page
  Agorajeux\n\n\n
ATTACH;FMTTYPE=image/jpeg:https://lesjeuxdelolympe.fr/wp-content/uploads/2
 025/11/SW.jpg
CATEGORIES:Star Wars Unlimited
END:VEVENT
BEGIN:VTIMEZONE
TZID:Europe/Paris
X-LIC-LOCATION:Europe/Paris
BEGIN:DAYLIGHT
DTSTART:20260329T030000
TZOFFSETFROM:+0100
TZOFFSETTO:+0200
TZNAME:CEST
END:DAYLIGHT
END:VTIMEZONE
END:VCALENDAR