BEGIN:VCALENDAR
VERSION:2.0
PRODID:-//wp-events-plugin.com//7.2.3.1//EN
TZID:Europe/Paris
X-WR-TIMEZONE:Europe/Paris
BEGIN:VEVENT
UID:35@lesjeuxdelolympe.fr
DTSTART;TZID=Europe/Paris:20260411T104500
DTEND;TZID=Europe/Paris:20260411T180000
DTSTAMP:20260404T230757Z
URL:https://lesjeuxdelolympe.fr/evenements/store-showdown-star-wars-unlimi
 ted/
SUMMARY:Store Showdown Star Wars Unlimited
DESCRIPTION:Le tournoi SWU de notre boutique à ne pas rater\nLe samedi 11 
 avril sera le point culminant de notre saison Star Wars Unlimited\n\nNous 
 organisons un grand tournoi exceptionnel Star Wars Unlimited en partenaria
 t avec le site Agorajeux.\nJusqu’à 16 joueurs pourront venir s’affron
 ter dans une ambiance conviviale et passionnée ! 🔥\n\nLe tournoi compt
 era pour la ligue des boutiques !\n\n\n\n🏆 Format du tournoi\n\n 	Forma
 t Construit – BO3\n 	4 rondes suivies d’un Top 4\n\n💰 Participation
 \n15 €\n🎁 Dotations\n\n 	Cartes promo Store Showdown pour tous\n 	nom
 breux Boosters Weekly Play (8 dont 3 du set 7 !)\n 	1 à 3 boosters set 7 
 pour les joueurs n'atteignant pas le top 4\n 	Boosters Carbonite pour le T
 op 4 ✨\n 	2 boosters Carbonite additionnels seront attribués par tirage
  au sort !\n\n\n\n👉 Inscriptions et détails :\n\nAccéder à la page A
 gorajeux\n
ATTACH;FMTTYPE=image/jpeg:https://lesjeuxdelolympe.fr/wp-content/uploads/2
 025/11/SW.jpg
CATEGORIES:Star Wars Unlimited
END:VEVENT
BEGIN:VTIMEZONE
TZID:Europe/Paris
X-LIC-LOCATION:Europe/Paris
BEGIN:DAYLIGHT
DTSTART:20260329T030000
TZOFFSETFROM:+0100
TZOFFSETTO:+0200
TZNAME:CEST
END:DAYLIGHT
END:VTIMEZONE
END:VCALENDAR