BEGIN:VCALENDAR
VERSION:2.0
PRODID:-//wp-events-plugin.com//7.2.3.1//EN
TZID:Europe/Paris
X-WR-TIMEZONE:Europe/Paris
BEGIN:VEVENT
UID:23@lesjeuxdelolympe.fr
DTSTART;TZID=Europe/Paris:20260320T191500
DTEND;TZID=Europe/Paris:20260320T214500
DTSTAMP:20260313T182400Z
URL:https://lesjeuxdelolympe.fr/evenements/scelle-star-wars-unlimited-set-
 7-sans-foi-ni-loi/
SUMMARY:Scellé Star Wars Unlimited set 7 : Sans Foi ni Loi
DESCRIPTION:\n    ⭐ Tournoi Scellé Star Wars Unlimited – Set 7 : Sans 
 Foi Ni Loi\n    Préparez vos blasters et rejoignez-nous pour le lancement
  du Set 7 – Sans Foi Ni Loi ! Ce tournoi marque également le coup d'env
 oi officiel de notre Ligue Star Wars Unlimited. Serez-vous le plus fin str
 atège de la galaxie ?\n\n    \n\n    💳 Inscription &amp\; Participatio
 n\n    \n        PAF : 32 €\n        Capacité : 16 places maximum\n    
     Réservation obligatoire : Lien vers la billetterie Agorajeux\n    \n\
 n    \n        ⚠️ Important : L'inscription sur Melee.gg est égalemen
 t obligatoire. Assurez-vous que votre ID SWU est renseigné dans votre pro
 fil.\n    \n\n    \n\n    📦 Votre Kit de Tournoi\n    Chaque participan
 t reçoit dès son arrivée :\n    \n        6 boosters Sans Foi ni Loi (p
 our la construction).\n        1 booster promotionnel Weekly Play Set 7.\n
     \n\n    \n\n    ⚔️ Format &amp\; Déroulement\n    \n        Forma
 t : Scellé (Deck de 30 cartes minimum).\n        Matchs : BO1 – Rondes 
 de 30 minutes.\n        Structure : 3 rondes en système suisse.\n    \n\n
     🕒 Planning de la soirée\n    \n        19h15 : Accueil\, kits et c
 onstruction.\n        20h15 : Lancement de la Ronde 1.\n        21h45 : Cl
 assement final et lots.\n    \n\n    \n\n    🎁 Des lots pour chaque jou
 eur\n    Dotation importante : 5\,5 boosters par joueur en moyenne (jusqu'
 à 10 pour les meilleurs) !\n    \n    Dotation garantie :\n    \n        
 1 booster Sans Foi ni Loi (Set 7)\n        1 booster Weekly Play (Set 7)\n
     \n\n    Bonus par victoire :\n    \n        1 victoire : +3 boosters (
 Sets 1\, 2\, 3)\n        2 victoires : +3 boosters (Sets 4\, 5\, 6)\n     
    3 victoires : +3 boosters (Sets 5\, 6\, 7)\n    \n\n    \n\n    🏆 En
  route pour la Ligue SWU\n    Cumulez des points pour la Ligue (du 16 mars
  au 24 mai) :\n    \n        Top 3 du magasin : Qualifiés pour la finale 
 Asmodee en juin.\n        À gagner : Tickets VIP pour Las Vegas et un bil
 let d'avion pour le vainqueur !\n    \n\n    \n    🚨 Réservez vite : l
 imité à 16 places !\n
ATTACH;FMTTYPE=image/jpeg:https://lesjeuxdelolympe.fr/wp-content/uploads/2
 026/03/large_SWH_07_P2_Spotlight_Deck_Breakdown_Article_Splash_Jabba_e9a0e
 8292e.png
CATEGORIES:Star Wars Unlimited
END:VEVENT
BEGIN:VTIMEZONE
TZID:Europe/Paris
X-LIC-LOCATION:Europe/Paris
BEGIN:STANDARD
DTSTART:20251026T020000
TZOFFSETFROM:+0200
TZOFFSETTO:+0100
TZNAME:CET
END:STANDARD
END:VTIMEZONE
END:VCALENDAR