BEGIN:VCALENDAR
VERSION:2.0
PRODID:-//wp-events-plugin.com//7.2.3.1//EN
TZID:Europe/Paris
X-WR-TIMEZONE:Europe/Paris
BEGIN:VEVENT
UID:39@lesjeuxdelolympe.fr
DTSTART;TZID=Europe/Paris:20260410T180000
DTEND;TZID=Europe/Paris:20260410T200000
DTSTAMP:20260408T115030Z
URL:https://lesjeuxdelolympe.fr/evenements/parties-de-jeux-de-societe/
SUMMARY:Parties de Jeux de société : rejoignez-nous !
DESCRIPTION:parties de jeu de société sur le créneau 18h-20h00 : vous ar
 rivez quand vous pouvez\, et on vous propose des parties !
ATTACH;FMTTYPE=image/jpeg:https://lesjeuxdelolympe.fr/wp-content/uploads/2
 026/04/IMG_0070.webp
CATEGORIES:Jeux de société
END:VEVENT
BEGIN:VTIMEZONE
TZID:Europe/Paris
X-LIC-LOCATION:Europe/Paris
BEGIN:DAYLIGHT
DTSTART:20260329T030000
TZOFFSETFROM:+0100
TZOFFSETTO:+0200
TZNAME:CEST
END:DAYLIGHT
END:VTIMEZONE
END:VCALENDAR