BEGIN:VCALENDAR
VERSION:2.0
PRODID:-//wp-events-plugin.com//7.2.3.1//EN
TZID:Europe/Paris
X-WR-TIMEZONE:Europe/Paris
BEGIN:VEVENT
UID:22@lesjeuxdelolympe.fr
DTSTART;TZID=Europe/Paris:20260508T143000
DTEND;TZID=Europe/Paris:20260508T170000
DTSTAMP:20260417T213920Z
URL:https://lesjeuxdelolympe.fr/evenements/one-piece-store-tournament-even
 t/
SUMMARY:One Piece Store Tournament Event
DESCRIPTION:Tournoi One Piece\, 16 places\, 3 ou 4 rondes BO1 selon le nomb
 re de participants.\n\nEntrée 15 € à régler le jour du tournoi ou sur
  le site Agorajeux.\n\nMerci de vous inscrire sur TCG+ : https://www.band
 ai-tcg-plus.com/event/6406519\n\nrécompenses : cartes promos\, dash packs
 ...
ATTACH;FMTTYPE=image/jpeg:https://lesjeuxdelolympe.fr/wp-content/uploads/2
 026/03/OPlogo.png
CATEGORIES:One Piece Card Game
END:VEVENT
BEGIN:VTIMEZONE
TZID:Europe/Paris
X-LIC-LOCATION:Europe/Paris
BEGIN:DAYLIGHT
DTSTART:20260329T030000
TZOFFSETFROM:+0100
TZOFFSETTO:+0200
TZNAME:CEST
END:DAYLIGHT
END:VTIMEZONE
END:VCALENDAR