BEGIN:VCALENDAR
VERSION:2.0
PRODID:-//wp-events-plugin.com//7.2.3.1//EN
TZID:Europe/Paris
X-WR-TIMEZONE:Europe/Paris
BEGIN:VEVENT
UID:28@lesjeuxdelolympe.fr
DTSTART;TZID=Europe/Paris:20260515T180000
DTEND;TZID=Europe/Paris:20260515T200000
DTSTAMP:20260417T214646Z
URL:https://lesjeuxdelolympe.fr/evenements/one-piece-store-pirate-party/
SUMMARY:One Piece Pirate Party
DESCRIPTION:Tournoi One Piece\, 16 places.\nÀ partir de mai 2026\, les Pir
 ates Party\, un tout nouveau format d’événement\, arrivent dans les bo
 utiques de toutes les régions occidentales !\n\nLes Pirates Party sont en
 core plus casual que les actuels Store Tournaments et ont été conçues p
 our être accessibles à tous — que vous veniez de commencer à jouer ou
  que vous envisagiez d’essayer ONE PIECE CARD GAME pour la première foi
 s.\n\n\n\nProfitez de ONE PIECE CARD GAME dans une ambiance détendue et c
 onviviale avec vos NAKAMA !\n\nL’une des caractéristiques principales d
 es Pirates Party est que chaque boutique participante peut librement chois
 ir parmi quatre formats différents pour organiser l’événement.\n\nDe 
 nouvelles cartes promotionnelles de participation seront proposées tous l
 es deux mois\, et un Welcome Pack sera introduit tous les six mois.\nForma
 t\nCe tournoi se fera au Format Combat en Deck Limité\nLes 10 cartes Lead
 er les plus utilisées sont interdites.\nLa liste des Leaders interdits es
 t la suivante :\nLes numéros de cartes Leader suivants sont interdits d
 ’utilisation\, y compris leurs versions parallèles.\n\n・OP15-058 Ener
  (Violet)\n・OP11-041 Nami (Bleu/Jaune)\n・OP15-002 Lucy (Rouge/Bleu)\n
 ・OP15-098 Monkey D. Luffy (Jaune)\n・OP13-002 Portgas D. Ace (Rouge/Ble
 u)\n・OP13-001 Monkey D. Luffy (Rouge/Vert)\n・OP14-020 Dracule Mihawk (
 Vert)\n・OP14-079 Crocodile (Noir)\n・EB02-010 Monkey D. Luffy (Vert/Vio
 let)\n・OP14-080 Gecko Moria (Noir/Jaune)\nInscription\nPaiement de 15 
 € sur place ou via le site Agorajeux.\n\nInscription obligatoire sur TCG
  plus
ATTACH;FMTTYPE=image/jpeg:https://lesjeuxdelolympe.fr/wp-content/uploads/2
 026/03/OPlogo.png
CATEGORIES:One Piece Card Game
END:VEVENT
BEGIN:VTIMEZONE
TZID:Europe/Paris
X-LIC-LOCATION:Europe/Paris
BEGIN:DAYLIGHT
DTSTART:20260329T030000
TZOFFSETFROM:+0100
TZOFFSETTO:+0200
TZNAME:CEST
END:DAYLIGHT
END:VTIMEZONE
END:VCALENDAR