BEGIN:VCALENDAR
VERSION:2.0
PRODID:-//wp-events-plugin.com//7.2.3.1//EN
TZID:Europe/Paris
X-WR-TIMEZONE:Europe/Paris
BEGIN:VEVENT
UID:33@lesjeuxdelolympe.fr
DTSTART;TZID=Europe/Paris:20260404T143000
DTEND;TZID=Europe/Paris:20260404T163000
DTSTAMP:20260331T114733Z
URL:https://lesjeuxdelolympe.fr/evenements/journee-star-wars-initiations-j
 eu-de-societe-et-jeu-de-cartes/
SUMMARY:Journée Star Wars : Initiations jeu de société et jeu de cartes
DESCRIPTION:Venez samedi découvrir le jeu de cartes Star Wars Unlimited et
  le jeu de plateau La bataille de Hoth !
ATTACH;FMTTYPE=image/jpeg:https://lesjeuxdelolympe.fr/wp-content/uploads/2
 026/03/c46399ac9a0a0973fa244d08d2f1407c37c26781_diaporama-Battle-of-Hoth-1
 -e1774957641660.jpg
CATEGORIES:Initiation,Jeux de société,Star Wars Unlimited
END:VEVENT
BEGIN:VTIMEZONE
TZID:Europe/Paris
X-LIC-LOCATION:Europe/Paris
BEGIN:DAYLIGHT
DTSTART:20260329T030000
TZOFFSETFROM:+0100
TZOFFSETTO:+0200
TZNAME:CEST
END:DAYLIGHT
END:VTIMEZONE
END:VCALENDAR