BEGIN:VCALENDAR
VERSION:2.0
PRODID:-//wp-events-plugin.com//7.2.3.1//EN
TZID:Europe/Paris
X-WR-TIMEZONE:Europe/Paris
BEGIN:VEVENT
UID:30@lesjeuxdelolympe.fr
DTSTART;TZID=Europe/Paris:20260403T190000
DTEND;TZID=Europe/Paris:20260403T220000
DTSTAMP:20260403T155647Z
URL:https://lesjeuxdelolympe.fr/evenements/initiation-warhammer-40000/
SUMMARY:Initiation Warhammer 40\,000
DESCRIPTION:&nbsp\;\n\n&nbsp\;\n\n\nVenez découvrir le jeu de figurines Wa
 rhammer 40\,000 développé par Games Workshop : prenez le commandement de
  guerriers surhumains\, d'extraterrestres voraces ou de puissances démoni
 aques\, et vivez des batailles spectaculaires où votre sens tactique (et 
 vos jets de dés) décideront du sort de galaxies entières.\nAu-delà du 
 jeu\, c'est un hobby complet et passionnant qui vous attend : rejoignez-no
 us pour une initiation et apprenez à mener vos propres troupes peintes ve
 rs une gloire éternelle !\n\n\n\n\n[caption id="attachment_3815" align="a
 ligncenter" width="1024"] la table est prête à accueillir les joueurs ![
 /caption]\nINFOS PRATIQUES\n\n 	Places limitées : Seulement 5 places disp
 onibles !\n 	Accessibilité : Débutants complets bienvenus*.\n 	Matériel
  : Tout est fourni (figurines\, dés\, réglettes et livres de règles). V
 enez simplement avec votre enthousiasme !\n\nRenseignements et inscription
 s au magasin \nou sur le site lesjeuxdelolympe.fr rubrique évènements\n&
 nbsp\;\n\n*important: les mineurs doivent être accompagnés d’un parent
 .
ATTACH;FMTTYPE=image/jpeg:https://lesjeuxdelolympe.fr/wp-content/uploads/2
 026/03/warhamme40k.jpg
CATEGORIES:Initiation
END:VEVENT
BEGIN:VTIMEZONE
TZID:Europe/Paris
X-LIC-LOCATION:Europe/Paris
BEGIN:DAYLIGHT
DTSTART:20260329T030000
TZOFFSETFROM:+0100
TZOFFSETTO:+0200
TZNAME:CEST
END:DAYLIGHT
END:VTIMEZONE
END:VCALENDAR