BEGIN:VCALENDAR
VERSION:2.0
PRODID:-//wp-events-plugin.com//7.2.3.1//EN
TZID:Europe/Paris
X-WR-TIMEZONE:Europe/Paris
BEGIN:VEVENT
UID:45@lesjeuxdelolympe.fr
DTSTART;TZID=Europe/Paris:20260522T190000
DTEND;TZID=Europe/Paris:20260522T220000
DTSTAMP:20260412T115725Z
URL:https://lesjeuxdelolympe.fr/evenements/initiation-star-wars-legion/
SUMMARY:Initiation Star Wars Legion
DESCRIPTION:\n\n  🚀 Initiation au jeu de figurines Star Wars Legion\n\n 
  \n    Rejoignez-nous pour une soirée immersive. Que vous soyez totalemen
 t débutant ou simplement curieux de découvrir ce jeu de figurines strat
 égique\, cette initiation est idéale pour faire vos premiers pas dans l'
 univers Star Wars.\n  \n\n  📅 Informations pratiques\n\n  \n    Date : 
 Vendredi 22 mai\n    Horaire : de 19h00 à 22h00\n    Lieu : en boutique\n
     Participation : 5 € (à régler sur place ou à l’avance)\n  \n\n 
  ⚔️ Déroulement de l’initiation\n\n  \n    Cette soirée est une v
 éritable initiation à Star Wars Legion :\n  \n\n  \n    Présentation de
 s bases du jeu\n    Explication des règles pas à pas\n    Parties d’in
 itiation encadrées\n  \n\n  \n    Nous fournissons toutes les figurines n
 écessaires pour jouer. Vous n’avez rien à apporter\, juste votre envie
  de découvrir.\n    \n    Si vous disposez déjà d’une armée et souha
 itez faire vos premières parties avec\, vous pouvez bien sûr l’apporte
 r.\n  \n\n  🎁 Offre spéciale\n\n  \n    Les participants bénéficiero
 nt de 10% de remise sur toute la gamme \n    Star Wars Legion\, uniquement
  le soir de l’événement.\n  \n\n  🛡️ Conditions de participation\
 n\n  \n    Les mineurs de moins de 16 ans devront être accompagnés d’u
 n adulte.\n    \n    L’accompagnateur ne paye pas s’il ne participe pa
 s au jeu.\n  \n\n  ✨ Pourquoi nous rejoindre ?\n\n  \n    Découvrir un 
 jeu stratégique dans l’univers Star Wars\n    Apprendre les règles fac
 ilement avec un encadrement\n    Passer une soirée conviviale entre passi
 onnés\n  \n\n  \n    ⚠️ Places limitées\, pensez à réserver à l
 ’avance.\n  \n\n  \n    Que la Force soit avec vous… 🌌\n  \n\n
ATTACH;FMTTYPE=image/jpeg:https://lesjeuxdelolympe.fr/wp-content/uploads/2
 026/04/SW-legion-logo-2.jpg
CATEGORIES:Initiation
END:VEVENT
BEGIN:VTIMEZONE
TZID:Europe/Paris
X-LIC-LOCATION:Europe/Paris
BEGIN:DAYLIGHT
DTSTART:20260329T030000
TZOFFSETFROM:+0100
TZOFFSETTO:+0200
TZNAME:CEST
END:DAYLIGHT
END:VTIMEZONE
END:VCALENDAR