BEGIN:VCALENDAR
VERSION:2.0
PRODID:-//wp-events-plugin.com//7.2.3.1//EN
TZID:Europe/Paris
X-WR-TIMEZONE:Europe/Paris
BEGIN:VEVENT
UID:20@lesjeuxdelolympe.fr
DTSTART;TZID=Europe/Paris:20260328T140000
DTEND;TZID=Europe/Paris:20260328T170000
DTSTAMP:20260311T234057Z
URL:https://lesjeuxdelolympe.fr/evenements/initiation-au-jeu-de-cartes-vam
 pire-the-eternal-struggle/
SUMMARY:Initiation au Jeu de cartes Vampire: The Eternal Struggle
DESCRIPTION:Le saviez-vous ?\n\nRichard Garfield\, le créateur de Magic: T
 he Gathering\, a conçu peu après un second jeu devenu culte : Vampire: T
 he Eternal Struggle.\n\nÀ l’origine un jeu de cartes à collectionner\,
  il se distingue pourtant nettement de son illustre aîné. Ici\, pas de d
 uel rapide : les parties se jouent principalement à plusieurs (idéalemen
 t à 4 ou 5 joueurs) et prennent la forme d’affrontements plus longs et 
 stratégiques\, où la gestion des ressources\, les alliances temporaires 
 et la diplomatie autour de la table jouent un rôle central. Chaque joueur
  incarne un ancien vampire manipulant intrigues\, influences et serviteurs
  pour atteindre ses objectifs… tout en surveillant attentivement ses voi
 sins.\n\nAujourd’hui\, le jeu a également évolué dans son mode de dis
 tribution : il ne fonctionne plus comme un jeu de cartes à collectionner 
 classique. Il est désormais vendu principalement sous forme de paquets pr
 éconstruits\, prêts à jouer\, ce qui le rapproche davantage du modèle 
 d’un jeu de cartes évolutif. Une excellente façon de se lancer facilem
 ent\, sans avoir à courir après des cartes rares.\n\n\n\nCurieux de déc
 ouvrir ce classique du jeu de cartes ?\n\nNous vous proposons le samedi 28
  mars une séance d’initiation gratuite pour vous faire découvrir Vampi
 re: The Eternal Struggle dans une ambiance conviviale. La partie sera anim
 ée par un vieux routier du jeu\, très actif au sein de la communauté fr
 ançaise\, qui vous guidera pas à pas et partagera avec vous sa passion p
 our cet univers unique.\n\nQue vous soyez amateur de jeux de stratégie\, 
 de négociation… ou simplement curieux\, venez tenter l’expérience et
  entrer dans la nuit ! 🦇
ATTACH;FMTTYPE=image/jpeg:https://lesjeuxdelolympe.fr/wp-content/uploads/2
 026/03/VTES.jpg
CATEGORIES:Initiation
END:VEVENT
BEGIN:VTIMEZONE
TZID:Europe/Paris
X-LIC-LOCATION:Europe/Paris
BEGIN:STANDARD
DTSTART:20251026T020000
TZOFFSETFROM:+0200
TZOFFSETTO:+0100
TZNAME:CET
END:STANDARD
END:VTIMEZONE
END:VCALENDAR