BEGIN:VCALENDAR
VERSION:2.0
PRODID:-//wp-events-plugin.com//7.2.3.1//EN
TZID:Europe/Paris
X-WR-TIMEZONE:Europe/Paris
BEGIN:VEVENT
UID:41@lesjeuxdelolympe.fr
DTSTART;TZID=Europe/Paris:20260417T180000
DTEND;TZID=Europe/Paris:20260417T200000
DTSTAMP:20260415T141141Z
URL:https://lesjeuxdelolympe.fr/evenements/friday-night-magic-parties-libr
 es-2/
SUMMARY:Friday Night Magic : parties libres
DESCRIPTION:Bienvenue à nos soirées Magic the Gathering du vendredi !\n\n
 Inscrivez vous sur le localisateur d"événements Magic ainsi que sur notr
 e site.\n\nAmenez vos decks\, et jouez\, tout simplement\, les vendredi de
  18h00 à 20h00 pour des parties amicales.\n\nLe 17 avril marque le début
  des avant-premières Secrets de Strixhaven ! Rejoignez-nous et nous pourr
 ons vous proposer\, selon les désirs de chacun\, du draft ou du scellé s
 ur cette nouvelle extension Magic !\n\n\n\nPour le moment\, Nous démarron
 s seulement les événements Magic et souhaitons former une petite communa
 uté dans la boutique.\nUne fois que cet objectif sera atteint\, nous pour
 rons proposer des événements plus cadrés\, de véritables tournois et b
 ien plus encore !\n\nEn attendant\, vous êtes les bienvenus tous les vend
 redi de 18h00 à 20h00\, et c'est gratuit !\n\n&nbsp\;\n\n&nbsp\;
ATTACH;FMTTYPE=image/jpeg:https://lesjeuxdelolympe.fr/wp-content/uploads/2
 026/04/Gemini_Generated_Image_r8ge20r8ge20r8ge.png
CATEGORIES:Magic The Gathering
END:VEVENT
BEGIN:VTIMEZONE
TZID:Europe/Paris
X-LIC-LOCATION:Europe/Paris
BEGIN:DAYLIGHT
DTSTART:20260329T030000
TZOFFSETFROM:+0100
TZOFFSETTO:+0200
TZNAME:CEST
END:DAYLIGHT
END:VTIMEZONE
END:VCALENDAR