BEGIN:VCALENDAR
VERSION:2.0
PRODID:-//wp-events-plugin.com//7.2.3.1//EN
TZID:Europe/Paris
X-WR-TIMEZONE:Europe/Paris
BEGIN:VEVENT
UID:3@lesjeuxdelolympe.fr
DTSTART;TZID=Europe/Paris:20260228T104500
DTEND;TZID=Europe/Paris:20260228T190000
DTSTAMP:20260213T171817Z
URL:https://lesjeuxdelolympe.fr/evenements/event-3/
SUMMARY:Store Showdown Star Wars Unlimited
DESCRIPTION:🎉 Ouverture officielle de la boutique !\nLe dernier jour de 
 février sera un grand jour :\n👉 celui de l’ouverture de notre boutiq
 ue au public !\n\nPour fêter cet événement comme il se doit\, nous orga
 nisons un grand tournoi exceptionnel Star Wars Unlimited en partenariat av
 ec le site Agorajeux.\nJusqu’à 24 joueurs pourront venir s’affronter 
 dans une ambiance conviviale et passionnée ! 🔥\n\n\n\n🏆 Format du t
 ournoi\n\n 	Format Construit – BO3\n 	5 rondes suivies d’un Top 4\n\n
 💰 Participation\n20 €\n🎁 Dotations\n\n 	Cartes promo Store Showdow
 n pour tous\n 	Boosters Weekly Play\n 	Minimum 2 boosters même pour les j
 oueurs les moins bien classés\n 	Boosters Carbonite pour le Top 4 ✨\n\n
 \n\n👉 Inscriptions et détails :\n\nAccéder à la page Agorajeux\n
ATTACH;FMTTYPE=image/jpeg:https://lesjeuxdelolympe.fr/wp-content/uploads/2
 025/11/SW.jpg
CATEGORIES:Star Wars Unlimited
END:VEVENT
BEGIN:VTIMEZONE
TZID:Europe/Paris
X-LIC-LOCATION:Europe/Paris
BEGIN:STANDARD
DTSTART:20251026T020000
TZOFFSETFROM:+0200
TZOFFSETTO:+0100
TZNAME:CET
END:STANDARD
END:VTIMEZONE
END:VCALENDAR