BEGIN:VCALENDAR
VERSION:2.0
PRODID:-//wp-events-plugin.com//7.2.3.1//EN
TZID:Europe/Paris
X-WR-TIMEZONE:Europe/Paris
BEGIN:VEVENT
UID:29@lesjeuxdelolympe.fr
DTSTART;TZID=Europe/Paris:20260327T191500
DTEND;TZID=Europe/Paris:20260327T214500
DTSTAMP:20260323T183700Z
URL:https://lesjeuxdelolympe.fr/evenements/draft-star-wars-unlimited-set-7
 -sans-foi-ni-loi/
SUMMARY:Draft Star Wars Unlimited set 7 : Sans Foi ni Loi
DESCRIPTION:\n⭐ Tournoi Scellé Star Wars Unlimited – Set 7 : Sans Foi 
 Ni Loi\nPréparez vos blasters et rejoignez-nous pour ce premier draft du 
 Set 7 – Sans Foi Ni Loi ! Ce tournoi marque également le second round d
 e notre Ligue Star Wars Unlimited. Serez-vous le plus fin stratège de la 
 galaxie ?\n\n\n\n\n\n💳 Inscription &amp\; Participation\n\n 	PAF : 20 
 €\n 	Capacité : 16 places maximum\n 	Réservation obligatoire : Lien ve
 rs la billetterie Agorajeux\n\n⚠️ Important : L'inscription sur Melee.
 gg est également obligatoire. Assurez-vous que votre ID SWU est renseign
 é dans votre profil.\n\n\n\n📦 Votre Kit de Tournoi\nChaque participant
  reçoit dès son arrivée :\n\n 	3 boosters Sans Foi ni Loi (à drafter).
 \n 	1 booster promotionnel Weekly Play Set 7.\n\n\n\n\n⚔️ Format &amp\
 ; Déroulement\n\n 	Format : Draft (Deck de 30 cartes minimum).\n 	Matchs 
 : BO1 – Rondes de 30 minutes.\n 	Structure : 3 rondes en système suisse
 .\n\n🕒 Planning de la soirée\n\n 	19h15 : Accueil\, kits et constructi
 on.\n 	19h30 : début du draft\n 	20h15 : Lancement de la Ronde 1.\n 	21h4
 5 : Classement final et lots.\n\n\n\n\n🎁 Des lots pour chaque joueur\nD
 otation importante comme pour tous les tournois de la ligue !\n\nDotation 
 garantie :\n\n 	1 booster Passage en Vitesse lumière (Set 4)\n 	1 booste
 r Weekly Play (Set 7)\n 	5 boosters Weekly Play (anciens sets)\n\nBonus s
 elon votre total de victoires :\n\n 	1 victoire : +3 boosters (anciens set
 s)\n 	2 victoires : 6 boosters (anciens sets)\n 	3 victoires : 1 kit d'AP 
 set 5 (6b) +1 booster du dernier set.\n\n\n\n\n🏆 En route pour la Ligue
  SWU\nCumulez des points pour la Ligue (du 16 mars au 24 mai) :\n\n 	Top 3
  du magasin : Qualifiés pour la finale Asmodee en juin.\n 	À gagner : Ti
 ckets VIP pour Las Vegas et un billet d'avion pour le vainqueur !\n\n\n\n\
 n🚨 Réservez vite : limité à 16 places !\n\n
ATTACH;FMTTYPE=image/jpeg:https://lesjeuxdelolympe.fr/wp-content/uploads/2
 026/03/large_SWH_07_P2_Spotlight_Deck_Breakdown_Article_Splash_Jabba_e9a0e
 8292e.png
CATEGORIES:Star Wars Unlimited
END:VEVENT
BEGIN:VTIMEZONE
TZID:Europe/Paris
X-LIC-LOCATION:Europe/Paris
BEGIN:STANDARD
DTSTART:20251026T020000
TZOFFSETFROM:+0200
TZOFFSETTO:+0100
TZNAME:CET
END:STANDARD
END:VTIMEZONE
END:VCALENDAR