BEGIN:VCALENDAR
VERSION:2.0
PRODID:-//wp-events-plugin.com//7.2.3.1//EN
TZID:Europe/Paris
X-WR-TIMEZONE:Europe/Paris
BEGIN:VEVENT
UID:32@lesjeuxdelolympe.fr
DTSTART;TZID=Europe/Paris:20260404T134500
DTEND;TZID=Europe/Paris:20260404T163000
DTSTAMP:20260329T145115Z
URL:https://lesjeuxdelolympe.fr/evenements/draft-star-wars-unlimited-set-7
 -sans-foi-ni-loi-2/
SUMMARY:Draft Star Wars Unlimited set 7 : Sans Foi ni Loi
DESCRIPTION:\n⭐ Tournoi Draft Star Wars Unlimited – Set 7 : Sans Foi Ni
  Loi\nPréparez vos blasters et rejoignez-nous pour ce premier draft du Se
 t 7 – Sans Foi Ni Loi ! Ce tournoi marque également le second round de 
 notre Ligue Star Wars Unlimited. Serez-vous le plus fin stratège de la ga
 laxie ?\n\n\n\n\n\n💳 Inscription &amp\; Participation\n\n 	PAF : 20 €
 \n 	Capacité : 16 places maximum\n 	Réservation obligatoire : Lien vers 
 la billetterie Agorajeux\n\n⚠️ Important : L'inscription sur Melee.gg 
 est également obligatoire. Assurez-vous que votre ID SWU est renseigné d
 ans votre profil.\n\n\n\n📦 Votre Kit de Tournoi\nChaque participant re
 çoit dès son arrivée :\n\n 	3 boosters Sans Foi ni Loi (à drafter).\n\
 n\n\n\n⚔️ Format &amp\; Déroulement\n\n 	Format : Draft (Deck de 30 c
 artes minimum).\n 	Matchs : BO1 – Rondes de 30 minutes.\n 	Structure : 3
  rondes en système suisse.\n\n🕒 Planning prévisionnel\n\n 	13h45 : Ac
 cueil.\n 	14h00 : début du draft\n 	15h00 : Lancement de la Ronde 1.\n 	1
 6h30 : Classement final et lots.\n\n\n\n\n🎁 Des lots pour chaque joueur
 \nDotation importante comme pour tous les tournois de la ligue !\n\nDotati
 on garantie :\n\n 	1 booster Passage en Vitesse lumière (Set 4)\n 	1 boo
 ster Weekly Play (Set 7)\n 	5 boosters Weekly Play (anciens sets)\n\nBonu
 s selon votre total de victoires :\n\n 	1 victoire : 3 boosters (parmi les
  sets 1 à 6)\n 	2 victoires : 6 boosters (parmi les sets 1 à 6)\n 	3 vic
 toires : 1 kit d'AP set 5 (6b) +1 booster Sans Foi ni Loi.\n\n\n\n\n🏆 E
 n route pour la Ligue SWU\nCumulez des points pour la Ligue (du 16 mars au
  24 mai) :\n\n 	Top 3 du magasin : Qualifiés pour la finale Asmodee en ju
 in.\n 	À gagner : Tickets VIP pour Las Vegas et un billet d'avion pour le
  vainqueur !\n\n\n\n\n🚨 Réservez vite : limité à 16 places !\n\nSeul
 e une réservation payée\, soit sur le site agorajeux\, soit directement 
 en caisse\, est considérée comme définitive.\n\n
ATTACH;FMTTYPE=image/jpeg:https://lesjeuxdelolympe.fr/wp-content/uploads/2
 026/02/large_SWH_07_Article_Designer_Insights_Splash_Putting_A_Team_Togeth
 er_6828dcdf27.png
CATEGORIES:Star Wars Unlimited
END:VEVENT
BEGIN:VTIMEZONE
TZID:Europe/Paris
X-LIC-LOCATION:Europe/Paris
BEGIN:DAYLIGHT
DTSTART:20260329T030000
TZOFFSETFROM:+0100
TZOFFSETTO:+0200
TZNAME:CEST
END:DAYLIGHT
END:VTIMEZONE
END:VCALENDAR