BEGIN:VCALENDAR
VERSION:2.0
PRODID:-//wp-events-plugin.com//7.2.3.1//EN
TZID:Europe/Paris
X-WR-TIMEZONE:Europe/Paris
BEGIN:VEVENT
UID:18@lesjeuxdelolympe.fr
DTSTART;TZID=Europe/Paris:20260307T103000
DTEND;TZID=Europe/Paris:20260307T130000
DTSTAMP:20260301T190215Z
URL:https://lesjeuxdelolympe.fr/evenements/draft-davant-premiere-altered-s
 et-5/
SUMMARY:Draft d'Avant-Première Altered set 5
DESCRIPTION:Venez drafter le nouveau set Les Graines de l'Unité du jeu de 
 cartes Altered dans la bonne humeur et récupérez au minimum une carte un
 ique et moult boosters promo !\n\nFormat : draft 4 joueurs\, 3 rondes en u
 ne manche gagnante : tous les joueurs s'affronteront\, pensez à contre-dr
 after :)\n\ninscription : 20 €\, à régler sur notre site partenaire Ag
 orajeux\n\nVous disposerez d'un kit d'avant-première comprenant les 5 car
 tes aventures et d'une carte unique pour faire votre deck\, en plus des 4 
 boosters à drafter.\n\nRécompenses :\n\n4 boosters promo Whispers from t
 he Maze pour la participation\, + 2 boosters promo supplémentaire par vic
 toire.\n\n&nbsp\;\n\n&nbsp\;\n\n&nbsp\;
ATTACH;FMTTYPE=image/jpeg:https://lesjeuxdelolympe.fr/wp-content/uploads/2
 026/03/altered-news-op-season-5-header.jpg
CATEGORIES:Altered TCG
END:VEVENT
BEGIN:VTIMEZONE
TZID:Europe/Paris
X-LIC-LOCATION:Europe/Paris
BEGIN:STANDARD
DTSTART:20251026T020000
TZOFFSETFROM:+0200
TZOFFSETTO:+0100
TZNAME:CET
END:STANDARD
END:VTIMEZONE
END:VCALENDAR