BEGIN:VCALENDAR
VERSION:2.0
PRODID:-//wp-events-plugin.com//7.2.3.1//EN
TZID:Europe/Paris
X-WR-TIMEZONE:Europe/Paris
BEGIN:VEVENT
UID:43@lesjeuxdelolympe.fr
DTSTART;TZID=Europe/Paris:20260515T200000
DTEND;TZID=Europe/Paris:20260515T220000
DTSTAMP:20260412T140644Z
URL:https://lesjeuxdelolympe.fr/evenements/demo-et-avant-premiere-moon-col
 ony-bloodbath/
SUMMARY:Démo et Avant-Première Moon Colony : Bloodbath !
DESCRIPTION:\n🚀 Bonjour Colons de l'espace !\nVenez découvrir avec nous
  l'une des sorties les plus attendues de l'année en français :\nMoon Col
 ony Bloodbath !\n\nMoon Colony Bloodbath est un jeu de cartes surprenant p
 our 1 à 5 joueurs où vous êtes chargé de fonder une colonie sur la Lun
 e.\nMais rien ne se passe comme prévu…\n\nLe vainqueur sera celui qui a
 ura su préserver un maximum d’habitants en prenant les meilleures déci
 sions face aux événements !\n\n🎲 Nous vous expliquerons les règles e
 t vous aurez l'opportunité de jouer une partie complète !\nMoon Colony B
 loodbath est un jeu de catégorie "initié"\, une partie dure entre 45min.
  et 1h30 en fonction du nombre de joueurs et de leur vitesse de jeu.\n\n\n
 \nEn fonction de votre performance\, vous recevrez un pin's commémoratif 
 :\n\n 	🏆 Avez-vous gagné ?\n 	😅 Avez-vous survécu ?\n 	💀 Ou êt
 es-vous mort ?\n\nVotre badge vous rappellera votre exploit !\n\n\nLe vain
 queur remportera également un goodie exclusif :\nune roue compteur d'acti
 ons.\n\n\n📅 Inscrivez-vous dès maintenant\net tentez de faire survivre
  votre colonie lunaire le 15 mai 2026 !\n\n5 places disponibles en tout.\n
 Les mineurs doivent être accompagnés d'un adulte.\n\n\n
ATTACH;FMTTYPE=image/jpeg:https://lesjeuxdelolympe.fr/wp-content/uploads/2
 026/04/MCBB.jpg
CATEGORIES:Jeux de société
END:VEVENT
BEGIN:VTIMEZONE
TZID:Europe/Paris
X-LIC-LOCATION:Europe/Paris
BEGIN:DAYLIGHT
DTSTART:20260329T030000
TZOFFSETFROM:+0100
TZOFFSETTO:+0200
TZNAME:CEST
END:DAYLIGHT
END:VTIMEZONE
END:VCALENDAR