BEGIN:VCALENDAR
VERSION:2.0
PRODID:-//wp-events-plugin.com//7.2.3.1//EN
TZID:Europe/Paris
X-WR-TIMEZONE:Europe/Paris
BEGIN:VEVENT
UID:47@lesjeuxdelolympe.fr
DTSTART;TZID=Europe/Paris:20260509T110000
DTEND;TZID=Europe/Paris:20260509T183000
DTSTAMP:20260418T120659Z
URL:https://lesjeuxdelolympe.fr/evenements/decouvrez-dnup-le-jeu-qui-renve
 rse-tout/
SUMMARY:Découvrez DNUP\, le jeu qui renverse tout !
DESCRIPTION:dnup est un jeu de cartes rapide\, malin et addictif\, où le s
 ens du timing et le bon move suffisent à RETOURNER VOS PARTIES !\n\nLe bu
 t : être le premier à se débarasser de toutes ses cartes en posant ses 
 sets avec un timing parfait.\n\nVenez le découvrir samedi 9 mai avec notr
 e équipe\, pas besoin de s'inscrire\, venez en boutique et installez vous
  à la table\, et jouez !\n\n\n\n&nbsp\;
ATTACH;FMTTYPE=image/jpeg:https://lesjeuxdelolympe.fr/wp-content/uploads/2
 026/04/dnup.jpg
END:VEVENT
BEGIN:VTIMEZONE
TZID:Europe/Paris
X-LIC-LOCATION:Europe/Paris
BEGIN:DAYLIGHT
DTSTART:20260329T030000
TZOFFSETFROM:+0100
TZOFFSETTO:+0200
TZNAME:CEST
END:DAYLIGHT
END:VTIMEZONE
END:VCALENDAR