BEGIN:VCALENDAR
VERSION:2.0
PRODID:-//wp-events-plugin.com//7.2.3.1//EN
TZID:Europe/Paris
X-WR-TIMEZONE:Europe/Paris
BEGIN:VEVENT
UID:15@lesjeuxdelolympe.fr
DTSTART;TZID=Europe/Paris:20260306T193000
DTEND;TZID=Europe/Paris:20260306T224500
DTSTAMP:20260216T152304Z
URL:https://lesjeuxdelolympe.fr/evenements/avant-premiere-star-wars-unlimi
 ted-set-7-sans-foi-ni-loi/
SUMMARY:Avant-Première Star Wars Unlimited set 7 : Sans Foi ni Loi
DESCRIPTION:⭐ Tournoi d’Avant-Première Star Wars Unlimited – Set 7 :
  Sans Foi Ni Loi ⭐\n\n\nRejoignez-nous pour l’avant-première du Set 7
  – Sans Foi Ni Loi de Star Wars Unlimited !\nUne soirée conviviale\, st
 ratégique et riche en surprises vous attend. Que vous soyez joueur confir
 mé ou amateur curieux\, venez découvrir ce nouveau set dans une ambiance
  détendue et compétitive.\n💳 Inscription\nPAF : 35 €\nInscription e
 n ligne :\nhttps://www.agorajeux.com/fr/star-wars-unlimited-tcg/18661-avan
 t-premiere-sw-unlimited-sans-foi-ni-loi-vendredi-6-mars.html\n\n\n&nbsp\;\
 n📦 Votre inscription comprend :\n\n 	1 kit d’avant-première Set 7 co
 ntenant 6 boosters\n 	1 booster promotionnel Weekly Play Set 6\n 	Des lots
  selon le classement\, dont un booster Carbonite pour le vainqueur\n\n⚔
 ️ Format du tournoi\n\n 	Format scellé\n 	BO1 – rondes de 35 minutes\
 n 	16 places maximum\n 	4 rondes en système suisse si au moins 9 joueurs\
 , sinon 3 rondes\n\nLes règles officielles du tournoi sont disponibles su
 r le site officiel du jeu.\n📝 Inscription obligatoire sur Melee\nMerci 
 de vous inscrire également sur Melee :\n\nhttps://melee.gg/Tournament/Vie
 w/405321\n\n\nImportant : votre ID SWU doit être renseigné dans votre pr
 ofil Melee.\nContactez-nous si vous avez besoin d’aide.\n🕒 Planning\n
 \n 	19h30 : accueil des joueurs\, distribution des kits et construction de
 s decks\n 	20h30 : ronde 1\n 	22h40 au plus tard : classement final et rem
 ise des lots\n\n🎁 Lots\n\n 	Lot de participation pour tous : 1 booster 
 Set 7\n 	Pour chaque victoire : 1 booster Set 7\n 	Pour chaque défaite : 
 1 booster Weekly Set 7\n 	Bonus vainqueur : un booster Carbonite à la pla
 ce d’un booster standard + un booster Weekly\n 	Jetons et autres goodies
  distribués aux participants\n\nPlaces limitées : ne tardez pas à rése
 rver !\nQue la Force soit avec vous… et que le meilleur stratège l’em
 porte.
ATTACH;FMTTYPE=image/jpeg:https://lesjeuxdelolympe.fr/wp-content/uploads/2
 026/02/large_SWH_07_Article_Designer_Insights_Splash_Putting_A_Team_Togeth
 er_6828dcdf27.png
CATEGORIES:Star Wars Unlimited
END:VEVENT
BEGIN:VTIMEZONE
TZID:Europe/Paris
X-LIC-LOCATION:Europe/Paris
BEGIN:STANDARD
DTSTART:20251026T020000
TZOFFSETFROM:+0200
TZOFFSETTO:+0100
TZNAME:CET
END:STANDARD
END:VTIMEZONE
END:VCALENDAR