BEGIN:VCALENDAR
VERSION:2.0
PRODID:-//wp-events-plugin.com//7.2.3.1//EN
TZID:Europe/Paris
X-WR-TIMEZONE:Europe/Paris
BEGIN:VEVENT
UID:16@lesjeuxdelolympe.fr
DTSTART;TZID=Europe/Paris:20260307T140000
DTEND;TZID=Europe/Paris:20260307T173000
DTSTAMP:20260216T152451Z
URL:https://lesjeuxdelolympe.fr/evenements/avant-premiere-star-wars-unlimi
 ted-set-7-sans-foi-ni-loi-2/
SUMMARY:Avant-Première Star Wars Unlimited set 7 : Sans Foi ni Loi
DESCRIPTION:⭐ Tournoi d’Avant-Première Star Wars Unlimited – Set 7 :
  Sans Foi Ni Loi ⭐\n\n\nRejoignez-nous pour l’avant-première du Set 7
  – Sans Foi Ni Loi de Star Wars Unlimited !\nUne journée conviviale\, s
 tratégique et riche en surprises vous attend. Que vous soyez joueur confi
 rmé ou amateur curieux\, venez découvrir ce nouveau set dans une ambianc
 e détendue et compétitive.\n💳 Inscription\nPAF : 35 €\nInscription 
 en ligne ici\n📦 Votre inscription comprend :\n\n 	1 kit d’avant-premi
 ère Set 7 contenant 6 boosters\n 	1 booster promotionnel Weekly Play Set 
 6\n 	Des lots selon le classement\, dont un booster Carbonite pour le vain
 queur\n\n⚔️ Format du tournoi\n\n 	Format scellé\n 	BO1 – rondes de
  35 minutes\n 	16 places maximum\n 	4 rondes en système suisse si au moin
 s 9 joueurs\, sinon 3 rondes\n\nLes règles officielles du tournoi sont di
 sponibles sur le site officiel du jeu.\n📝 Inscription obligatoire sur M
 elee\nMerci de vous inscrire également sur Melee :\n\nhttps://melee.gg/To
 urnament/View/405321\n\n\nImportant : votre ID SWU doit être renseigné d
 ans votre profil Melee.\nContactez-nous si vous avez besoin d’aide.\n
 🕒 Planning\n\n 	14h00 : accueil des joueurs\, distribution des kits et 
 construction des decks\n 	15h00 : ronde 1\n 	17h30 au plus tard : classeme
 nt final et remise des lots\n\n🎁 Lots\n\n 	Lot de participation pour to
 us : 1 booster Set 7\n 	Pour chaque victoire : 1 booster Set 7\n 	Pour cha
 que défaite : 1 booster Weekly Set 7\n 	Bonus vainqueur : un booster Carb
 onite à la place d’un booster standard + un booster Weekly\n 	Jetons et
  autres goodies distribués aux participants\n\nPlaces limitées : ne tard
 ez pas à réserver !\nQue la Force soit avec vous… et que le meilleur s
 tratège l’emporte.
ATTACH;FMTTYPE=image/jpeg:https://lesjeuxdelolympe.fr/wp-content/uploads/2
 026/02/large_SWH_07_Article_Designer_Insights_Splash_Putting_A_Team_Togeth
 er_6828dcdf27.png
CATEGORIES:Star Wars Unlimited
END:VEVENT
BEGIN:VTIMEZONE
TZID:Europe/Paris
X-LIC-LOCATION:Europe/Paris
BEGIN:STANDARD
DTSTART:20251026T020000
TZOFFSETFROM:+0200
TZOFFSETTO:+0100
TZNAME:CET
END:STANDARD
END:VTIMEZONE
END:VCALENDAR