BEGIN:VCALENDAR
VERSION:2.0
PRODID:-//wp-events-plugin.com//7.2.3.1//EN
TZID:Europe/Paris
X-WR-TIMEZONE:Europe/Paris
BEGIN:VEVENT
UID:21@lesjeuxdelolympe.fr
DTSTART;TZID=Europe/Paris:20260502T140000
DTEND;TZID=Europe/Paris:20260502T173000
DTSTAMP:20260407T153245Z
URL:https://lesjeuxdelolympe.fr/evenements/avant-premiere-riftbound-set-3-
 unleashed/
SUMMARY:Avant-Première Riftbound Set 3 : Unleashed
DESCRIPTION:Tournoi d'avant-première en scellé Riftbound.\n\nBO1\, 16 pla
 ces\, 3 ou 4 rondes selon le nombre d'inscrits.\n\n35 € d'inscription do
 nnant droit à un kit d'avant-première contenant :\n\n- Un mini-deck pré
 construit de 15 cartes avec une Légende.\n- 5 Boosters Riftbound: Unleash
 ed\n- 1 carte promo de pre-release Unleashed\n\nVous remporterez 1 booster
  Unleashed par victoire acquise lors des 3 premières rondes. Si vous term
 inez à 0 victoires\, vous aurez droit à un booster de consolation.\n\nle
  vainqueur du tournoi remportera un booster supplémentaire (si le tournoi
  affiche complet).\n\nLes inscriptions se feront sur le site Agorajeux\n\n
 &nbsp\;
ATTACH;FMTTYPE=image/jpeg:https://lesjeuxdelolympe.fr/wp-content/uploads/2
 026/03/lol_riftbound-s3-render-prerift-front-scaled.png
CATEGORIES:Riftbound TCG
END:VEVENT
BEGIN:VTIMEZONE
TZID:Europe/Paris
X-LIC-LOCATION:Europe/Paris
BEGIN:DAYLIGHT
DTSTART:20260329T030000
TZOFFSETFROM:+0100
TZOFFSETTO:+0200
TZNAME:CEST
END:DAYLIGHT
END:VTIMEZONE
END:VCALENDAR