BEGIN:VCALENDAR
VERSION:2.0
PRODID:-//wp-events-plugin.com//7.2.3.1//EN
TZID:Europe/Paris
X-WR-TIMEZONE:Europe/Paris
BEGIN:VEVENT
UID:25@lesjeuxdelolympe.fr
DTSTART;TZID=Europe/Paris:20260821T170000
DTEND;TZID=Europe/Paris:20260821T200000
DTSTAMP:20260316T103926Z
URL:https://lesjeuxdelolympe.fr/evenements/avant-premiere-one-piece-op17/
SUMMARY:Avant Première One Piece OP17
DESCRIPTION:Tournoi One Piece\, 16 places.\nPlus de détails à venir.
ATTACH;FMTTYPE=image/jpeg:https://lesjeuxdelolympe.fr/wp-content/uploads/2
 026/03/OPlogo.png
CATEGORIES:One Piece Card Game
END:VEVENT
BEGIN:VTIMEZONE
TZID:Europe/Paris
X-LIC-LOCATION:Europe/Paris
BEGIN:DAYLIGHT
DTSTART:20260329T030000
TZOFFSETFROM:+0100
TZOFFSETTO:+0200
TZNAME:CEST
END:DAYLIGHT
END:VTIMEZONE
END:VCALENDAR