BEGIN:VCALENDAR
VERSION:2.0
PRODID:-//wp-events-plugin.com//7.2.3.1//EN
TZID:Europe/Paris
X-WR-TIMEZONE:Europe/Paris
BEGIN:VEVENT
UID:17@lesjeuxdelolympe.fr
DTSTART;TZID=Europe/Paris:20260313T190000
DTEND;TZID=Europe/Paris:20260313T220000
DTSTAMP:20260305T085121Z
URL:https://lesjeuxdelolympe.fr/evenements/avant-premiere-naruto-mythos-tc
 g/
SUMMARY:Avant-Première Naruto Mythos TCG
DESCRIPTION:Avant-première Naruto – Jour de sortie !\n\nLes Jeux de l'Ol
 ympe vous donnent rendez-vous le 13 mars\, jour officiel de sortie du jeu 
 de cartes à collectionner Naruto Mythos\, pour une avant-première except
 ionnelle !\n\nNous sommes actuellement en attente des informations défini
 tives de l’éditeur (Participation financière et contenu exact des kits
  et lots)\, mais une chose est sûre :\n🎁 du matériel promotionnel ser
 a distribué aux participants !\n\n\n\n👉 Plus il y aura d’inscrits\, 
 plus l’éditeur enverra de lots et de dotations supplémentaires.\nVotre
  préinscription est donc essentielle pour garantir un maximum de récompe
 nses à la communauté. Un premier point sera effectué le 4 mars par l'é
 diteur qui nous enverra les lots à ce moment là\, n'hésitez donc pas à
  vous inscrire de suite !\n\nQue vous soyez ninja débutant ou Hokage conf
 irmé\, venez découvrir le jeu dès sa sortie (et en français !) dans un
 e ambiance conviviale.\n\n📌 Préinscriptions dès maintenant via le for
 mulaire d'inscription !\n\nRassemblez votre équipe et préparez-vous à e
 ntrer dans l’arène le 13 mars !\n\n&nbsp\;\n\nParticipation : 30 € co
 mprenant :\n\n- 5 boosters pour construire votre deck\n\n- un booster de d
 otation et des cartes promo pour tous les participants\n\n- une carte prom
 o et un tapis pour le vainqueur.\n\npour régler et valider définitivemen
 t votre inscription\, merci de passer via notre site partenaire Agorajeux.
 \n\nEnfin\, l'inscription sur l'application top deck est également requis
 e.
ATTACH;FMTTYPE=image/jpeg:https://lesjeuxdelolympe.fr/wp-content/uploads/2
 026/02/naruto-1.jpg
CATEGORIES:Naruto TCG
END:VEVENT
BEGIN:VTIMEZONE
TZID:Europe/Paris
X-LIC-LOCATION:Europe/Paris
BEGIN:STANDARD
DTSTART:20251026T020000
TZOFFSETFROM:+0200
TZOFFSETTO:+0100
TZNAME:CET
END:STANDARD
END:VTIMEZONE
END:VCALENDAR