BEGIN:VCALENDAR
VERSION:2.0
PRODID:-//wp-events-plugin.com//7.2.3.1//EN
TZID:Europe/Paris
X-WR-TIMEZONE:Europe/Paris
BEGIN:VEVENT
UID:36@lesjeuxdelolympe.fr
DTSTART;TZID=Europe/Paris:20260429T140000
DTEND;TZID=Europe/Paris:20260429T153000
DTSTAMP:20260404T233741Z
URL:https://lesjeuxdelolympe.fr/evenements/animation-peinture-2/
SUMMARY:Animation peinture
DESCRIPTION:Animation Peinture de Figurines\nMarre de voir vos armées ou l
 es figurines de votre jeu de société préféré désespérément grises 
 sur la table de jeu ? Notre atelier est l'occasion parfaite pour franchir 
 le pas et découvrir le plaisir de la mise en couleur. Sous l'œil bienvei
 llant de notre équipe\, apprenez les techniques de base en expérimentant
  les peintures speedpaint\, le brossage à sec ou les lavis pour des résu
 ltats bluffants dès votre première figurine.\n\n[caption id="attachment_
 3818" align="aligncenter" width="556"] apprenez à peindre ces figurines[/
 caption]\nInformations Pratiques\nL'atelier est conçu pour être accessib
 le à tous les niveaux\, avec un accent mis sur le partage et la convivial
 ité. Pas besoin d'investir dans une palette onéreuse pour débuter : nou
 s mettons à votre disposition une gamme de peintures acryliques et de pin
 ceaux speedpaint. Repartez avec votre création et la satisfaction d'avoir
  accompli votre première œuvre hobby !\n\nUne participation de 5 euros p
 ar personne est demandée.  Elle donne accès à l'ensemble des sessions 
 (mardi\, mercredi\, jeudi et samedi). Elle sera à régler en magasin.\n\n
 Pensez à préciser lors de votre réservation en ligne à quelle(s) sessi
 on(s) vous comptez venir.\n\nLes enfants mineurs de moins de 16 ans doiven
 t être accompagnées d'un adulte.\n\nImportant: il est possible d'amener 
 vos propres figurines\, qui devront être préalablement sous-couchées\, 
 idéalement en blanc.\nPoints clés\n\n 	Zéro barrière à l'entrée : D
 ébutants acceptés et encouragés.\n 	Matériel inclus : Peintures\, pinc
 eaux et figurines de test fournis.\n 	Conseils d'expert : Apprenez les as
 tuces pour gagner du temps et de la qualité.\n 	Ambiance conviviale : Éc
 hangez avec d'autres passionnés du milieu.\n\nNota bene: le magasin sera 
 fermé le 1er mai.
ATTACH;FMTTYPE=image/jpeg:https://lesjeuxdelolympe.fr/wp-content/uploads/2
 026/04/istockphoto-1312354052-612x612-1.jpg
CATEGORIES:Initiation
END:VEVENT
BEGIN:VTIMEZONE
TZID:Europe/Paris
X-LIC-LOCATION:Europe/Paris
BEGIN:DAYLIGHT
DTSTART:20260329T030000
TZOFFSETFROM:+0100
TZOFFSETTO:+0200
TZNAME:CEST
END:DAYLIGHT
END:VTIMEZONE
END:VCALENDAR